BEGIN:VCALENDAR
VERSION:2.0
PRODID:-//Coosa Methodist Church - ECPv6.15.18//NONSGML v1.0//EN
CALSCALE:GREGORIAN
METHOD:PUBLISH
X-ORIGINAL-URL:https://coosachurch.com
X-WR-CALDESC:Events for Coosa Methodist Church
REFRESH-INTERVAL;VALUE=DURATION:PT1H
X-Robots-Tag:noindex
X-PUBLISHED-TTL:PT1H
BEGIN:VTIMEZONE
TZID:America/New_York
BEGIN:DAYLIGHT
TZOFFSETFROM:-0500
TZOFFSETTO:-0400
TZNAME:EDT
DTSTART:20240310T070000
END:DAYLIGHT
BEGIN:STANDARD
TZOFFSETFROM:-0400
TZOFFSETTO:-0500
TZNAME:EST
DTSTART:20241103T060000
END:STANDARD
BEGIN:DAYLIGHT
TZOFFSETFROM:-0500
TZOFFSETTO:-0400
TZNAME:EDT
DTSTART:20250309T070000
END:DAYLIGHT
BEGIN:STANDARD
TZOFFSETFROM:-0400
TZOFFSETTO:-0500
TZNAME:EST
DTSTART:20251102T060000
END:STANDARD
BEGIN:DAYLIGHT
TZOFFSETFROM:-0500
TZOFFSETTO:-0400
TZNAME:EDT
DTSTART:20260308T070000
END:DAYLIGHT
BEGIN:STANDARD
TZOFFSETFROM:-0400
TZOFFSETTO:-0500
TZNAME:EST
DTSTART:20261101T060000
END:STANDARD
END:VTIMEZONE
BEGIN:VEVENT
DTSTART;TZID=America/New_York:20251004T090000
DTEND;TZID=America/New_York:20251004T140000
DTSTAMP:20260420T014714
CREATED:20250812T141647Z
LAST-MODIFIED:20250812T141647Z
UID:535-1759568400-1759586400@coosachurch.com
SUMMARY:Coosa Methodist Craft\, & Bake Sale\, BBQ & Silent Auction
DESCRIPTION:October 4\, 2025  9 am to 2 pm \nPlan on attending this special event to benefit the missions and ministries of Coosa Methodist Church.  Be there when the doors open at 9 am for the best selection.  The Auction last all day and the high bidders are announced at 2 pm.
URL:https://coosachurch.com/event/coosa-methodist-craft-bake-sale-bbq-silent-auction/
END:VEVENT
END:VCALENDAR