BEGIN:VCALENDAR
VERSION:2.0
PRODID:-//Coosa Methodist Church - ECPv6.15.18//NONSGML v1.0//EN
CALSCALE:GREGORIAN
METHOD:PUBLISH
X-WR-CALNAME:Coosa Methodist Church
X-ORIGINAL-URL:https://coosachurch.com
X-WR-CALDESC:Events for Coosa Methodist Church
REFRESH-INTERVAL;VALUE=DURATION:PT1H
X-Robots-Tag:noindex
X-PUBLISHED-TTL:PT1H
BEGIN:VTIMEZONE
TZID:America/New_York
BEGIN:DAYLIGHT
TZOFFSETFROM:-0500
TZOFFSETTO:-0400
TZNAME:EDT
DTSTART:20240310T070000
END:DAYLIGHT
BEGIN:STANDARD
TZOFFSETFROM:-0400
TZOFFSETTO:-0500
TZNAME:EST
DTSTART:20241103T060000
END:STANDARD
BEGIN:DAYLIGHT
TZOFFSETFROM:-0500
TZOFFSETTO:-0400
TZNAME:EDT
DTSTART:20250309T070000
END:DAYLIGHT
BEGIN:STANDARD
TZOFFSETFROM:-0400
TZOFFSETTO:-0500
TZNAME:EST
DTSTART:20251102T060000
END:STANDARD
BEGIN:DAYLIGHT
TZOFFSETFROM:-0500
TZOFFSETTO:-0400
TZNAME:EDT
DTSTART:20260308T070000
END:DAYLIGHT
BEGIN:STANDARD
TZOFFSETFROM:-0400
TZOFFSETTO:-0500
TZNAME:EST
DTSTART:20261101T060000
END:STANDARD
END:VTIMEZONE
BEGIN:VEVENT
DTSTART;TZID=America/New_York:20250318T190000
DTEND;TZID=America/New_York:20250318T200000
DTSTAMP:20260419T184131
CREATED:20250305T165934Z
LAST-MODIFIED:20250305T170722Z
UID:472-1742324400-1742328000@coosachurch.com
SUMMARY:Alpha Course Blairsville
DESCRIPTION:Come join in a conversation about the big questions of life\, each Tuesday evening at the Alpha Course.  Begins on March 18\, and continues each Tuesday.  Come for food\, video message\, and discussion each week.  See you there!
URL:https://coosachurch.com/event/alpha-course-blairsville/
LOCATION:Haralson Civic Center\, 165 Wellborn St.\, Blairsville\, GA\, 30512\, United States
ORGANIZER;CN="Coosa Methodist Church":MAILTO:coosa1834@gmail.com
END:VEVENT
BEGIN:VEVENT
DTSTART;TZID=America/New_York:20250311T100000
DTEND;TZID=America/New_York:20250311T130000
DTSTAMP:20260419T184131
CREATED:20250305T192015Z
LAST-MODIFIED:20250305T192015Z
UID:488-1741687200-1741698000@coosachurch.com
SUMMARY:Circle of Friends
DESCRIPTION:Lunch and program for the ladies of the church and guest.  Sign up or call the church at 706 745 8893.
URL:https://coosachurch.com/event/circle-of-friends/
END:VEVENT
BEGIN:VEVENT
DTSTART;TZID=America/New_York:20250108T080000
DTEND;TZID=America/New_York:20250108T170000
DTSTAMP:20260419T184131
CREATED:20250108T153652Z
LAST-MODIFIED:20250305T162941Z
UID:450-1736323200-1736355600@coosachurch.com
SUMMARY:Chair Yoga
DESCRIPTION:Beginning January 13\, 2025 \nMonday\, Wednesday and Friday at 8:30 to 9:15 am in the fellowship hall
URL:https://coosachurch.com/event/chair-yoga/
END:VEVENT
END:VCALENDAR