BEGIN:VCALENDAR
VERSION:2.0
PRODID:-//Coosa Methodist Church - ECPv6.15.18//NONSGML v1.0//EN
CALSCALE:GREGORIAN
METHOD:PUBLISH
X-WR-CALNAME:Coosa Methodist Church
X-ORIGINAL-URL:https://coosachurch.com
X-WR-CALDESC:Events for Coosa Methodist Church
REFRESH-INTERVAL;VALUE=DURATION:PT1H
X-Robots-Tag:noindex
X-PUBLISHED-TTL:PT1H
BEGIN:VTIMEZONE
TZID:America/New_York
BEGIN:DAYLIGHT
TZOFFSETFROM:-0500
TZOFFSETTO:-0400
TZNAME:EDT
DTSTART:20250309T070000
END:DAYLIGHT
BEGIN:STANDARD
TZOFFSETFROM:-0400
TZOFFSETTO:-0500
TZNAME:EST
DTSTART:20251102T060000
END:STANDARD
BEGIN:DAYLIGHT
TZOFFSETFROM:-0500
TZOFFSETTO:-0400
TZNAME:EDT
DTSTART:20260308T070000
END:DAYLIGHT
BEGIN:STANDARD
TZOFFSETFROM:-0400
TZOFFSETTO:-0500
TZNAME:EST
DTSTART:20261101T060000
END:STANDARD
BEGIN:DAYLIGHT
TZOFFSETFROM:-0500
TZOFFSETTO:-0400
TZNAME:EDT
DTSTART:20270314T070000
END:DAYLIGHT
BEGIN:STANDARD
TZOFFSETFROM:-0400
TZOFFSETTO:-0500
TZNAME:EST
DTSTART:20271107T060000
END:STANDARD
END:VTIMEZONE
BEGIN:VEVENT
DTSTART;TZID=America/New_York:20260403T160000
DTEND;TZID=America/New_York:20260403T170000
DTSTAMP:20260419T164607
CREATED:20260219T184439Z
LAST-MODIFIED:20260219T184826Z
UID:568-1775232000-1775235600@coosachurch.com
SUMMARY:Good Friday Service
DESCRIPTION:This is a special service on April 3rd is at 4 pm.
URL:https://coosachurch.com/event/good-friday-service-3/
LOCATION:Coosa Methodist Church\, 767 Mulky Gap Rd.\, Blairsville\, GA\, 30512\, United States
END:VEVENT
BEGIN:VEVENT
DTSTART;TZID=America/New_York:20260405T083000
DTEND;TZID=America/New_York:20260405T123000
DTSTAMP:20260419T164607
CREATED:20260225T184923Z
LAST-MODIFIED:20260225T184923Z
UID:580-1775377800-1775392200@coosachurch.com
SUMMARY:Easter Sunday
DESCRIPTION:Worship services at 8:30 and 10:30 am.  A covered dish meal will follow the 10:30 service.  The church will provide the meat so bring your favorite sides and desserts. \nAn Easter Egg Hunt for the childrenwill also follow the 10:30 service.
URL:https://coosachurch.com/event/easter-sunday-2/
END:VEVENT
END:VCALENDAR