BEGIN:VCALENDAR
VERSION:2.0
PRODID:-//Coosa Methodist Church - ECPv6.15.18//NONSGML v1.0//EN
CALSCALE:GREGORIAN
METHOD:PUBLISH
X-ORIGINAL-URL:https://coosachurch.com
X-WR-CALDESC:Events for Coosa Methodist Church
REFRESH-INTERVAL;VALUE=DURATION:PT1H
X-Robots-Tag:noindex
X-PUBLISHED-TTL:PT1H
BEGIN:VTIMEZONE
TZID:America/New_York
BEGIN:DAYLIGHT
TZOFFSETFROM:-0500
TZOFFSETTO:-0400
TZNAME:EDT
DTSTART:20240310T070000
END:DAYLIGHT
BEGIN:STANDARD
TZOFFSETFROM:-0400
TZOFFSETTO:-0500
TZNAME:EST
DTSTART:20241103T060000
END:STANDARD
BEGIN:DAYLIGHT
TZOFFSETFROM:-0500
TZOFFSETTO:-0400
TZNAME:EDT
DTSTART:20250309T070000
END:DAYLIGHT
BEGIN:STANDARD
TZOFFSETFROM:-0400
TZOFFSETTO:-0500
TZNAME:EST
DTSTART:20251102T060000
END:STANDARD
BEGIN:DAYLIGHT
TZOFFSETFROM:-0500
TZOFFSETTO:-0400
TZNAME:EDT
DTSTART:20260308T070000
END:DAYLIGHT
BEGIN:STANDARD
TZOFFSETFROM:-0400
TZOFFSETTO:-0500
TZNAME:EST
DTSTART:20261101T060000
END:STANDARD
END:VTIMEZONE
BEGIN:VEVENT
DTSTART;TZID=America/New_York:20250420T083000
DTEND;TZID=America/New_York:20250420T130000
DTSTAMP:20260422T235205
CREATED:20250312T141527Z
LAST-MODIFIED:20250312T141527Z
UID:498-1745137800-1745154000@coosachurch.com
SUMMARY:Easter Sunday
DESCRIPTION:Services at 8:30 am and 10:30 am.  After the 10:30 service you are invited to a covered dish lunch with an Egg Hunt for the children.  Everyone is invited to celebrate with the Coosa family.
URL:https://coosachurch.com/event/easter-sunday/
END:VEVENT
END:VCALENDAR